BEGIN:VCALENDAR
VERSION:2.0
PRODID:-//wp-events-plugin.com//7.2.3.1//EN
TZID:Europe/Paris
X-WR-TIMEZONE:Europe/Paris
BEGIN:VEVENT
UID:572@iskis.org
DTSTART;TZID=Europe/Paris:20231216T190000
DTEND;TZID=Europe/Paris:20231216T223000
DTSTAMP:20231204T164921Z
URL:https://iskis.org/events/angels-in-america-partie-2/
SUMMARY:Ciné-débat : Angels in America (partie 2)
DESCRIPTION:Le troisième vendredi de chaque mois\, l’association propose
  de débattre autour d’une fiction ou documentaire à thématique LGBTI\
 , souvent en lien avec l’actualité militante.\nEn décembre\, en lien a
 vec la journée internationale de lutte contre le VIH\, nous vous proposon
 s de débattre autour de la mini-série Angels in America\, de Mike Nichol
 s.\nSynopsis :\nNous sommes en 1985\, Ronald Reagan est à la Maison Blanc
 he et le SIDA provoque une hécatombe en Amérique. À Manhattan\, Prior W
 alter annonce à Louis\, son amant depuis quatre ans\, qu'il est atteint d
 u sida \; Louis\, incapable de le supporter\, le quitte. Alors que la mala
 die et la solitude ravagent Prior\, la culpabilité envahit Louis. Joe Pit
 t\, un avocat mormon et républicain\, est poussé par l'arrangeur de droi
 te Roy Cohn à obtenir un poste au ministère de la Justice des États-Uni
 s. Pitt et Cohn sont tous deux dans le placard : Pitt par honte et par tro
 uble religieux\, Cohn pour préserver son pouvoir et son image. La femme d
 e Pitt\, Harper\, est sous l'emprise du Valium\, ce qui lui donne des hall
 ucinations constantes (parfois en même temps que Prior pendant ses rêves
  fiévreux) et elle aspire à échapper à son mariage.\nUn ange aux inten
 tions inavouées ordonne à Prior de devenir prophète.\nPratique :\nPremi
 ère partie (chapitres I à III) : Vendredi 15 décembre\, à 19 h\nDeuxi
 ème partie (chapitres IV à VI) : Samedi 16 décembre\, à 19 h
ATTACH;FMTTYPE=image/jpeg:https://iskis.org/wp-content/uploads/2023/12/Cin
 e-debat-decembre-2023.png
LOCATION:Iskis\, 6 rue Saint-Martin\, Rennes\, 35700\, Bretagne\, France
X-APPLE-STRUCTURED-LOCATION;VALUE=URI;X-ADDRESS=6 rue Saint-Martin\, Rennes
 \, 35700\, Bretagne\, France;X-APPLE-RADIUS=100;X-TITLE=Iskis:geo:0,0
END:VEVENT
BEGIN:VTIMEZONE
TZID:Europe/Paris
X-LIC-LOCATION:Europe/Paris
BEGIN:STANDARD
DTSTART:20231029T020000
TZOFFSETFROM:+0200
TZOFFSETTO:+0100
TZNAME:CET
END:STANDARD
END:VTIMEZONE
END:VCALENDAR