BEGIN:VCALENDAR
VERSION:2.0
PRODID:-//wp-events-plugin.com//7.2.3.1//EN
TZID:Europe/Paris
X-WR-TIMEZONE:Europe/Paris
BEGIN:VEVENT
UID:973@iskis.org
DTSTART;TZID=Europe/Paris:20250719T150000
DTEND;TZID=Europe/Paris:20250719T180000
DTSTAMP:20250624T082557Z
URL:https://iskis.org/events/atelier-arts-plastiques/
SUMMARY:Atelier Arts plastiques
DESCRIPTION:Envie de découvrir les arts plastiques ?  Envie de partager ta
  passion avec d’autres personnes ?  Ou continuer un projet artistique pe
 rsonnel en bonne compagnie ?   Ça tombe bien\, nous vous proposons un at
 elier « Arts Plastiques »\, ouvert à toustes\, débutant.e.s comme habi
 tué.e.s !\n\n\n\nDate : samedi 19 juillet 2025\nHoraires : De 15h à 18h\
 nLieu : à Iskis\nPratiques proposées : peinture acrylique\, aquarelle\, 
 pastel sec et gras\, crayonné seul\, crayons de couleurs\, feutres et/ou 
 collage.\n\n\n\nTu peux amener ton matériel et ton projet en cours ou ven
 ir les mains dans les poches. Deux thèmes seront proposés (un queer  et 
 un général)\, mais tu pourras aussi pratiquer librement. Attention\, cet
  atelier n’est pas un cours mais un moment de pratique commune\, avec qu
 elques conseils de base qui pourront être proposés pour aider au démarr
 age. L’atelier sera accessible à 10 personnes\, merci de t’inscrire v
 ia le lien suivant :\nhttps://forms.gle/BAwGJb1ABZrzHt7b8\n
LOCATION:Iskis\, 6 rue Saint-Martin\, Rennes\, 35700\, Bretagne\, France
X-APPLE-STRUCTURED-LOCATION;VALUE=URI;X-ADDRESS=6 rue Saint-Martin\, Rennes
 \, 35700\, Bretagne\, France;X-APPLE-RADIUS=100;X-TITLE=Iskis:geo:0,0
END:VEVENT
BEGIN:VTIMEZONE
TZID:Europe/Paris
X-LIC-LOCATION:Europe/Paris
BEGIN:DAYLIGHT
DTSTART:20250330T030000
TZOFFSETFROM:+0100
TZOFFSETTO:+0200
TZNAME:CEST
END:DAYLIGHT
END:VTIMEZONE
END:VCALENDAR