BEGIN:VCALENDAR
VERSION:2.0
PRODID:-//wp-events-plugin.com//7.2.3.1//EN
TZID:Europe/Paris
X-WR-TIMEZONE:Europe/Paris
BEGIN:VEVENT
UID:854@iskis.org
DTSTART;TZID=Europe/Paris:20241126T183000
DTEND;TZID=Europe/Paris:20241126T203000
DTSTAMP:20241023T173156Z
URL:https://iskis.org/events/atelier-couture/
SUMMARY:Atelier couture
DESCRIPTION:Tu as une poche trouée\, un pantalon ou une jupe trop long.ue\
 , un bouton tombé...mais tu ne sais pas coudre\, on propose un atelier le
  mardi 26 novembre à 18h30 !\nViens avec ton vêtement\, avec ton bouton\
 , et hop des bénévoles pourront t’apprendre à rafistoler.\nPour des q
 uestions de logistique\, tu as juste besoin de t’inscrire: https://forms
 .gle/uMnf4cgPXhizhc8Z7
LOCATION:Iskis\, 6 rue Saint-Martin\, Rennes\, 35700\, Bretagne\, France
X-APPLE-STRUCTURED-LOCATION;VALUE=URI;X-ADDRESS=6 rue Saint-Martin\, Rennes
 \, 35700\, Bretagne\, France;X-APPLE-RADIUS=100;X-TITLE=Iskis:geo:0,0
END:VEVENT
BEGIN:VTIMEZONE
TZID:Europe/Paris
X-LIC-LOCATION:Europe/Paris
BEGIN:STANDARD
DTSTART:20241027T020000
TZOFFSETFROM:+0200
TZOFFSETTO:+0100
TZNAME:CET
END:STANDARD
END:VTIMEZONE
END:VCALENDAR