BEGIN:VCALENDAR
VERSION:2.0
PRODID:-//wp-events-plugin.com//7.2.3.1//EN
TZID:Europe/Paris
X-WR-TIMEZONE:Europe/Paris
BEGIN:VEVENT
UID:577@iskis.org
DTSTART;TZID=Europe/Paris:20240216T180000
DTEND;TZID=Europe/Paris:20240216T200000
DTSTAMP:20240109T154544Z
URL:https://iskis.org/events/atelier-diffusion-du-zine-nos-mondes-queer/
SUMMARY:Atelier Diffusion du zine Nos Mondes Queer
DESCRIPTION:Il s'agit d'une petite session de travail pour la diffusion du 
 zine "Nos mondes queer" dont la production a été financée par Iskis.\nA
 u programme :\n- Recherche de bibliothèques communautaires (une liste est
  déjà constituée\, l'enrichir éventuellement)\n- Remplissage des formu
 laires\n- Mise sous pli\n- Constitution d'une liste à garder par Iskis de
  lieux où le zine sera présent\n- Effectuer les envois à la Poste (ou l
 es déposer sur Rennes)\n- Publication du pdf sur le site (+ recherche d'a
 utres sites possibles)\n- Liste de médias à contacter pour les informer 
 et leur demander de faire tourner l'info\n- Rédaction et envoi des mails 
 à ces médias
ATTACH;FMTTYPE=image/jpeg:https://iskis.org/wp-content/uploads/2024/01/Cou
 verture-QZ.png
END:VEVENT
BEGIN:VTIMEZONE
TZID:Europe/Paris
X-LIC-LOCATION:Europe/Paris
BEGIN:STANDARD
DTSTART:20231029T020000
TZOFFSETFROM:+0200
TZOFFSETTO:+0100
TZNAME:CET
END:STANDARD
END:VTIMEZONE
END:VCALENDAR