BEGIN:VCALENDAR
VERSION:2.0
PRODID:-//wp-events-plugin.com//7.2.3.1//EN
TZID:Europe/Paris
X-WR-TIMEZONE:Europe/Paris
BEGIN:VEVENT
UID:844@iskis.org
DTSTART;TZID=Europe/Paris:20250109T150000
DTEND;TZID=Europe/Paris:20250109T190000
DTSTAMP:20240702T090533Z
URL:https://iskis.org/events/atelier-entraide-administrative-2025-01-09/
SUMMARY:Atelier entraide administrative
DESCRIPTION:Tu as une démarche (CAF\, changement d’état civil\, prise d
 e rendez-vous médicaux…) à faire\, mais tu n’arrives pas à t’y me
 ttre ou tu ne trouves pas les infos pour la mener à bien ? Tu as des conn
 aissances sur certaines démarches administratives que tu veux partager av
 ec tes ædelphes ? Rejoins-nous à Iskis tous les 2èmes jeudis du mois\, 
 de  15 h à 19 h pour un atelier d’entraide administrative.\nNous préc
 isons que cet atelier n’a pas vocation à se substituer à un accompagne
 ment social mais plutôt à trouver un soutien communautaire entre pairs p
 our faire ensemble ce qui peut être stressant de faire seul⋅e.
LOCATION:Iskis\, 6 rue Saint-Martin\, Rennes\, 35700\, Bretagne\, France
X-APPLE-STRUCTURED-LOCATION;VALUE=URI;X-ADDRESS=6 rue Saint-Martin\, Rennes
 \, 35700\, Bretagne\, France;X-APPLE-RADIUS=100;X-TITLE=Iskis:geo:0,0
END:VEVENT
BEGIN:VTIMEZONE
TZID:Europe/Paris
X-LIC-LOCATION:Europe/Paris
BEGIN:STANDARD
DTSTART:20241027T020000
TZOFFSETFROM:+0200
TZOFFSETTO:+0100
TZNAME:CET
END:STANDARD
END:VTIMEZONE
END:VCALENDAR