BEGIN:VCALENDAR
VERSION:2.0
PRODID:-//wp-events-plugin.com//7.2.3.1//EN
TZID:Europe/Paris
X-WR-TIMEZONE:Europe/Paris
BEGIN:VEVENT
UID:874@iskis.org
DTSTART;TZID=Europe/Paris:20250517T183000
DTEND;TZID=Europe/Paris:20250517T213000
DTSTAMP:20250424T122859Z
URL:https://iskis.org/events/atelier-maquillage/
SUMMARY:Atelier maquillage
DESCRIPTION:Iskis organise un atelier maquillage animé par Angel et Axel l
 e 17 mai de 18h30 à 21h30. Si vous débutez dans le domaine\, êtes perdu
 -e face aux produits ou intimidé-e à l’idée d’essayer seul-e\, cet 
 atelier est fait pour vous !\nLimité à 8 participant-es\, gratuit\, sur 
 inscription. N’hésitez pas amener votre propre maquillage et/ou un miro
 ir à pied si vous en avez !\nPour s'inscrire vou pouvez envoyer un mail 
 à slefranco0105@gmail.com ou angelos3585 sur Discord
LOCATION:Iskis\, 6 rue Saint-Martin\, Rennes\, 35700\, Bretagne\, France
X-APPLE-STRUCTURED-LOCATION;VALUE=URI;X-ADDRESS=6 rue Saint-Martin\, Rennes
 \, 35700\, Bretagne\, France;X-APPLE-RADIUS=100;X-TITLE=Iskis:geo:0,0
END:VEVENT
BEGIN:VTIMEZONE
TZID:Europe/Paris
X-LIC-LOCATION:Europe/Paris
BEGIN:DAYLIGHT
DTSTART:20250330T030000
TZOFFSETFROM:+0100
TZOFFSETTO:+0200
TZNAME:CEST
END:DAYLIGHT
END:VTIMEZONE
END:VCALENDAR