BEGIN:VCALENDAR
VERSION:2.0
PRODID:-//wp-events-plugin.com//7.2.3.1//EN
TZID:Europe/Paris
X-WR-TIMEZONE:Europe/Paris
BEGIN:VEVENT
UID:161@iskis.org
DTSTART;TZID=Europe/Paris:20230302T190000
DTEND;TZID=Europe/Paris:20230302T210000
DTSTAMP:20230625T105958Z
URL:https://iskis.org/events/atelier-theatre-act-out-2-2023-03-02/
SUMMARY:Atelier théâtre : Act Out
DESCRIPTION:Un projet d’atelier d’expression théâtrale\, avec Iskis\,
  pour laisser s’exprimer le corps et la voix dans un environnement artis
 tique d’expression scénique.\n\nAvec qui ? : Les ateliers seront ani
 més par Christophe et Elliot. Nous avons tout deux une expérience diffé
 rente de l’expression théâtrale\, de l’animation d’atelier et de l
 a mise en scène. Nos parcours nous ont mené vers Iskis avec l’envie pl
 us militante de proposer des ateliers de théâtre à destination d’un p
 ublic sensibilisé aux questions LGBTQIA+. Nous aurons à cœur de propose
 r des ateliers accessibles à toustes dans un cadre bienveillant et respec
 tueux de chacun.e.\n\nPour qui ? Pour toustes! Pour celleux qui se questi
 onnent sur la pratique du théâtre. Pour celleux qui ont envie de s’amu
 ser tout en apprenant à travailler leur expression corporelle et vocale.\
 n\nPour quoi faire ? S’amuser simplement\, à partir de textes\, d’i
 mprovisation ou de vos propres écrits et/ou témoignages. Pour prendre co
 nfiance en soi (prise de parole en public par exemple) grâce à des exerc
 ices de placements de voie. Pour se sentir bien.\n\nQuand ? Les premiers
  jeudis du mois et les quatrièmes vendredi du mois de 19h à 21h
LOCATION:Iskis\, 6 rue Saint-Martin\, Rennes\, 35700\, Bretagne\, France
X-APPLE-STRUCTURED-LOCATION;VALUE=URI;X-ADDRESS=6 rue Saint-Martin\, Rennes
 \, 35700\, Bretagne\, France;X-APPLE-RADIUS=100;X-TITLE=Iskis:geo:0,0
END:VEVENT
BEGIN:VTIMEZONE
TZID:Europe/Paris
X-LIC-LOCATION:Europe/Paris
BEGIN:STANDARD
DTSTART:20221030T020000
TZOFFSETFROM:+0200
TZOFFSETTO:+0100
TZNAME:CET
END:STANDARD
END:VTIMEZONE
END:VCALENDAR