BEGIN:VCALENDAR
VERSION:2.0
PRODID:-//wp-events-plugin.com//7.2.3.1//EN
TZID:Europe/Paris
X-WR-TIMEZONE:Europe/Paris
BEGIN:VEVENT
UID:993@iskis.org
DTSTART;TZID=Europe/Paris:20251121T200000
DTEND;TZID=Europe/Paris:20251121T223000
DTSTAMP:20251106T192204Z
URL:https://iskis.org/events/cine-debat-bambi/
SUMMARY:Ciné-débat « Bambi »
DESCRIPTION:\nLe troisième vendredi de chaque mois\, l’association propo
 se de débattre autour d’une fiction ou documentaire à thématique LGBT
 I\, souvent en lien avec l’actualité militante.\n\n\n\nCe mois-ci nous 
 vous proposons une soirée autour du film « BAMBI » de Sébastien Lifshi
 tz\n\n\n\nSynopsis :\n\n\n\n“Dès sa plus tendre enfance à Alger\, Mari
 e-Pierre ne veut s’habiller qu’en robe et refuse obstinément son pré
 nom de naissance : Jean-Pierre. A 17 ans\, sa vie bascule lorsqu’elle d
 écouvre la revue d’un cabaret de travestis en tournée : le Carrousel d
 e Paris. En quelques années\, elle devient « Bambi »\, figure mythique 
 des cabarets parisiens des années 50-60. .”\n\n\n\nVendredi 21 novembre
  – 20h à Iskis\n
ATTACH;FMTTYPE=image/jpeg:https://iskis.org/wp-content/uploads/2025/10/Cin
 e-debat-1.png
LOCATION:Iskis\, 6 rue Saint-Martin\, Rennes\, 35700\, Bretagne\, France
X-APPLE-STRUCTURED-LOCATION;VALUE=URI;X-ADDRESS=6 rue Saint-Martin\, Rennes
 \, 35700\, Bretagne\, France;X-APPLE-RADIUS=100;X-TITLE=Iskis:geo:0,0
END:VEVENT
BEGIN:VTIMEZONE
TZID:Europe/Paris
X-LIC-LOCATION:Europe/Paris
BEGIN:STANDARD
DTSTART:20251026T020000
TZOFFSETFROM:+0200
TZOFFSETTO:+0100
TZNAME:CET
END:STANDARD
END:VTIMEZONE
END:VCALENDAR