BEGIN:VCALENDAR
VERSION:2.0
PRODID:-//wp-events-plugin.com//7.2.3.1//EN
TZID:Europe/Paris
X-WR-TIMEZONE:Europe/Paris
BEGIN:VEVENT
UID:856@iskis.org
DTSTART;TZID=Europe/Paris:20241115T200000
DTEND;TZID=Europe/Paris:20241115T220000
DTSTAMP:20241031T161117Z
URL:https://iskis.org/events/cine-debat-fighting-beauty/
SUMMARY:Ciné débat "Beautiful Boxer"
DESCRIPTION:Le troisième vendredi de chaque mois\, l’association propose
  de débattre autour d’une fiction ou documentaire à thématique LGBTI\
 , souvent en lien avec l’actualité militante.\n\nCe mois-ci nous vous p
 roposons une soirée autour du film « Beautiful Boxer »\, par Ekachai Ue
 krongtham.\n\nSynopsis :\nLe film relate l’enfance de Nong Toom\, enfant
  sensible\, aimant jouer avec les filles et pour cela souffre-douleur de c
 ertains de ses camarades. Adolescente\, alors encore considérée comme un
  homme\, elle accepte le défi de participer à un combat de boxe qui lui 
 montre que la volonté est plus forte que les aléas de la vie.\n\nOuvert 
 à tou⋅te⋅s\n\nVendredi 15 novembre\nDe 20h à 22h
LOCATION:Iskis\, 6 rue Saint-Martin\, Rennes\, 35700\, Bretagne\, France
X-APPLE-STRUCTURED-LOCATION;VALUE=URI;X-ADDRESS=6 rue Saint-Martin\, Rennes
 \, 35700\, Bretagne\, France;X-APPLE-RADIUS=100;X-TITLE=Iskis:geo:0,0
END:VEVENT
BEGIN:VTIMEZONE
TZID:Europe/Paris
X-LIC-LOCATION:Europe/Paris
BEGIN:STANDARD
DTSTART:20241027T020000
TZOFFSETFROM:+0200
TZOFFSETTO:+0100
TZNAME:CET
END:STANDARD
END:VTIMEZONE
END:VCALENDAR