BEGIN:VCALENDAR
VERSION:2.0
PRODID:-//wp-events-plugin.com//7.2.3.1//EN
TZID:Europe/Paris
X-WR-TIMEZONE:Europe/Paris
BEGIN:VEVENT
UID:828@iskis.org
DTSTART;TZID=Europe/Paris:20240322T193000
DTEND;TZID=Europe/Paris:20240322T230000
DTSTAMP:20240319T201817Z
URL:https://iskis.org/events/conviviale-faims-de-lhiver/
SUMMARY:Conviviale : Faims de l'hiver
DESCRIPTION:Adieu les jours maussades\, bienvenue à la chaleur printanièr
 e ! Il est temps de mettre de côté nos soupières\, appareils à raclett
 e et fondues... Enfin\, peut-être pas tout de suite. Et si on s'offrait u
 ne dernière parenthèse gourmande ? Pour cette Conviviale\, apportez tous
  vos délices à base de f(r)omage fondu\, vos créations soupesques\, vos
  ingrédients secrets pour concocter le chocolat chaud parfait. Ensemble\,
  savourons une ultime fois les délices hivernaux avant de plonger pleinem
 ent dans le renouveau printanier.
ATTACH;FMTTYPE=image/jpeg:https://iskis.org/wp-content/uploads/2024/03/Con
 viviale-mars-2024.png
LOCATION:Iskis\, 6 rue Saint-Martin\, Rennes\, 35700\, Bretagne\, France
X-APPLE-STRUCTURED-LOCATION;VALUE=URI;X-ADDRESS=6 rue Saint-Martin\, Rennes
 \, 35700\, Bretagne\, France;X-APPLE-RADIUS=100;X-TITLE=Iskis:geo:0,0
END:VEVENT
BEGIN:VTIMEZONE
TZID:Europe/Paris
X-LIC-LOCATION:Europe/Paris
BEGIN:STANDARD
DTSTART:20231029T020000
TZOFFSETFROM:+0200
TZOFFSETTO:+0100
TZNAME:CET
END:STANDARD
END:VTIMEZONE
END:VCALENDAR