BEGIN:VCALENDAR
VERSION:2.0
PRODID:-//wp-events-plugin.com//7.2.3.1//EN
TZID:Europe/Paris
X-WR-TIMEZONE:Europe/Paris
BEGIN:VEVENT
UID:519@iskis.org
DTSTART;TZID=Europe/Paris:20240707T150000
DTEND;TZID=Europe/Paris:20240707T180000
DTSTAMP:20231003T134358Z
URL:https://iskis.org/events/des-gateaux-sur-un-plateau-2-2024-07-07/
SUMMARY:Des Gâteaux sur un Plateau
DESCRIPTION:Vous voulez vous retrouver autour d’un jeu de plateau et pass
 er un après-midi agréable\, avec boissons chaudes et gâteaux à portée
  de main ? Vous n’êtes pas les seul⋅e⋅s !\nDes gâteaux sur un plat
 eau\, c'est notre évènement du premier dimanche du mois où chacun peut 
 venir avec un gâteau et des jeux de société passer un réel moment de p
 artage\, dans notre local.
ATTACH;FMTTYPE=image/jpeg:https://iskis.org/wp-content/uploads/2023/02/Des
 -gateaux-sur-un-plateau-version-2-1.png
LOCATION:Iskis\, 6 rue Saint-Martin\, Rennes\, 35700\, Bretagne\, France
X-APPLE-STRUCTURED-LOCATION;VALUE=URI;X-ADDRESS=6 rue Saint-Martin\, Rennes
 \, 35700\, Bretagne\, France;X-APPLE-RADIUS=100;X-TITLE=Iskis:geo:0,0
END:VEVENT
BEGIN:VTIMEZONE
TZID:Europe/Paris
X-LIC-LOCATION:Europe/Paris
BEGIN:DAYLIGHT
DTSTART:20240331T030000
TZOFFSETFROM:+0100
TZOFFSETTO:+0200
TZNAME:CEST
END:DAYLIGHT
END:VTIMEZONE
END:VCALENDAR