BEGIN:VCALENDAR
VERSION:2.0
PRODID:-//wp-events-plugin.com//7.2.3.1//EN
TZID:Europe/Paris
X-WR-TIMEZONE:Europe/Paris
BEGIN:VEVENT
UID:987@iskis.org
DTSTART;TZID=Europe/Paris:20251025T160000
DTEND;TZID=Europe/Paris:20251025T180000
DTSTAMP:20250929T132652Z
URL:https://iskis.org/events/discussion-autour-dun-parcours-de-p-m-a-procr
 eation-medicalement-assistee/
SUMMARY:Discussion autour d'un parcours de P.M.A (Procréation médicalemen
 t assistée)
DESCRIPTION:Discussion autour d’un parcours de P.M.A (Procréation Médic
 alement Assistée)\n\nJulie et Mélanie\, adhérentes à l’APGL (Associa
 tion des Parents et futurs parents Gays et Lesbiens)\, viennent témoigner
  de leur parcours de PMA à Rennes\n\nSamedi 25 octobre de 16h à 18h à I
 skis.\n\nSur inscription : https://forms.gle/xGc5u1ubZqqnrSqv6\n\nRenseign
 ements : bretagne@apgl.fr
LOCATION:Iskis\, 6 rue Saint-Martin\, Rennes\, 35700\, Bretagne\, France
X-APPLE-STRUCTURED-LOCATION;VALUE=URI;X-ADDRESS=6 rue Saint-Martin\, Rennes
 \, 35700\, Bretagne\, France;X-APPLE-RADIUS=100;X-TITLE=Iskis:geo:0,0
END:VEVENT
BEGIN:VTIMEZONE
TZID:Europe/Paris
X-LIC-LOCATION:Europe/Paris
BEGIN:DAYLIGHT
DTSTART:20250330T030000
TZOFFSETFROM:+0100
TZOFFSETTO:+0200
TZNAME:CEST
END:DAYLIGHT
END:VTIMEZONE
END:VCALENDAR