BEGIN:VCALENDAR
VERSION:2.0
PRODID:-//wp-events-plugin.com//7.2.3.1//EN
TZID:Europe/Paris
X-WR-TIMEZONE:Europe/Paris
BEGIN:VEVENT
UID:847@iskis.org
DTSTART;TZID=Europe/Paris:20240928T140000
DTEND;TZID=Europe/Paris:20240928T170000
DTSTAMP:20240820T093129Z
URL:https://iskis.org/events/formation-accueil-et-ecoute-3/
SUMMARY:Formation accueil et écoute
DESCRIPTION:Le samedi 28 septembre de 14 h à 17 h aura lieu une session de
  formation à l’accueil et à l’écoute.\nLa participation à cette fo
 rmation est l’un des prérequis pour tou⋅te⋅s nos écoutant⋅e⋅s 
 (mais l’intégration à l’équipe n’est pas systématique) et toutes
  les personnes désirant animer un de nos groupes de parole et de partage.
  Mais il est tout à fait possible d’assister à cette formation de faç
 on libre\, sans avoir l’intention de rejoindre notre équipe.\nFormation
  gratuite\, ouverte à tou⋅te⋅s (comme tous nos autres événements : 
 pas besoin d’adhérer ou de fréquenter régulièrement l’association)
 .
ATTACH;FMTTYPE=image/jpeg:https://iskis.org/wp-content/uploads/2024/08/Cap
 ture-decran-2024-08-20-a-11.30.33.png
LOCATION:Iskis\, 6 rue Saint-Martin\, Rennes\, 35700\, Bretagne\, France
X-APPLE-STRUCTURED-LOCATION;VALUE=URI;X-ADDRESS=6 rue Saint-Martin\, Rennes
 \, 35700\, Bretagne\, France;X-APPLE-RADIUS=100;X-TITLE=Iskis:geo:0,0
END:VEVENT
BEGIN:VTIMEZONE
TZID:Europe/Paris
X-LIC-LOCATION:Europe/Paris
BEGIN:DAYLIGHT
DTSTART:20240331T030000
TZOFFSETFROM:+0100
TZOFFSETTO:+0200
TZNAME:CEST
END:DAYLIGHT
END:VTIMEZONE
END:VCALENDAR