BEGIN:VCALENDAR
VERSION:2.0
PRODID:-//wp-events-plugin.com//7.2.3.1//EN
TZID:Europe/Paris
X-WR-TIMEZONE:Europe/Paris
BEGIN:VEVENT
UID:982@iskis.org
DTSTART;TZID=Europe/Paris:20250906T150000
DTEND;TZID=Europe/Paris:20250906T180000
DTSTAMP:20250825T153106Z
URL:https://iskis.org/events/gouter-de-rentree/
SUMMARY:Goûter de rentrée
DESCRIPTION:Le 6 septembre\, de 15h à 18h\, Iskis organise un goûter de r
 entrée !\nApporte un goûter que tu aimes et viens profiter avec nous.\n\
 nOuvert à tous.tes\n\n&nbsp\;
LOCATION:Iskis\, 6 rue Saint-Martin\, Rennes\, 35700\, Bretagne\, France
X-APPLE-STRUCTURED-LOCATION;VALUE=URI;X-ADDRESS=6 rue Saint-Martin\, Rennes
 \, 35700\, Bretagne\, France;X-APPLE-RADIUS=100;X-TITLE=Iskis:geo:0,0
END:VEVENT
BEGIN:VTIMEZONE
TZID:Europe/Paris
X-LIC-LOCATION:Europe/Paris
BEGIN:DAYLIGHT
DTSTART:20250330T030000
TZOFFSETFROM:+0100
TZOFFSETTO:+0200
TZNAME:CEST
END:DAYLIGHT
END:VTIMEZONE
END:VCALENDAR