BEGIN:VCALENDAR
VERSION:2.0
PRODID:-//wp-events-plugin.com//7.2.3.1//EN
TZID:Europe/Paris
X-WR-TIMEZONE:Europe/Paris
BEGIN:VEVENT
UID:972@iskis.org
DTSTART;TZID=Europe/Paris:20250629T150000
DTEND;TZID=Europe/Paris:20250629T180000
DTSTAMP:20250624T083348Z
URL:https://iskis.org/events/gouter-des-fiertes/
SUMMARY:Goûter des fiertés
DESCRIPTION:Apporte un goûter\, sois coloré-e\, et viens profiter de l’
 été avec nous !\n\nDimanche 29 juin\, 15h - 18h à Iskis
LOCATION:Iskis\, 6 rue Saint-Martin\, Rennes\, 35700\, Bretagne\, France
X-APPLE-STRUCTURED-LOCATION;VALUE=URI;X-ADDRESS=6 rue Saint-Martin\, Rennes
 \, 35700\, Bretagne\, France;X-APPLE-RADIUS=100;X-TITLE=Iskis:geo:0,0
END:VEVENT
BEGIN:VTIMEZONE
TZID:Europe/Paris
X-LIC-LOCATION:Europe/Paris
BEGIN:DAYLIGHT
DTSTART:20250330T030000
TZOFFSETFROM:+0100
TZOFFSETTO:+0200
TZNAME:CEST
END:DAYLIGHT
END:VTIMEZONE
END:VCALENDAR