BEGIN:VCALENDAR
VERSION:2.0
PRODID:-//wp-events-plugin.com//7.2.3.1//EN
TZID:Europe/Paris
X-WR-TIMEZONE:Europe/Paris
BEGIN:VEVENT
UID:550@iskis.org
DTSTART;TZID=Europe/Paris:20241027T150000
DTEND;TZID=Europe/Paris:20241027T183000
DTSTAMP:20231003T134534Z
URL:https://iskis.org/events/groupe-de-parole-non-binaire-2-2024-10-27/
SUMMARY:Groupe de parole non-binaire
DESCRIPTION:Ce groupe de parole s'adresse aux personnes transgenres non-bin
 aires ou en questionnement suivi d’un atelier convivial en non-mixité\,
  tous les quatrièmes dimanches du mois.
ATTACH;FMTTYPE=image/jpeg:https://iskis.org/wp-content/uploads/2023/04/Gro
 upe-de-parole-non-binaire-1.png
LOCATION:Iskis\, 6 rue Saint-Martin\, Rennes\, 35700\, Bretagne\, France
X-APPLE-STRUCTURED-LOCATION;VALUE=URI;X-ADDRESS=6 rue Saint-Martin\, Rennes
 \, 35700\, Bretagne\, France;X-APPLE-RADIUS=100;X-TITLE=Iskis:geo:0,0
END:VEVENT
BEGIN:VTIMEZONE
TZID:Europe/Paris
X-LIC-LOCATION:Europe/Paris
BEGIN:STANDARD
DTSTART:20241027T020000
TZOFFSETFROM:+0200
TZOFFSETTO:+0100
TZNAME:CET
END:STANDARD
END:VTIMEZONE
END:VCALENDAR