BEGIN:VCALENDAR
VERSION:2.0
PRODID:-//wp-events-plugin.com//7.2.3.1//EN
TZID:Europe/Paris
X-WR-TIMEZONE:Europe/Paris
BEGIN:VEVENT
UID:835@iskis.org
DTSTART;TZID=Europe/Paris:20240609T150000
DTEND;TZID=Europe/Paris:20240609T180000
DTSTAMP:20240603T145401Z
URL:https://iskis.org/events/groupe-deuil/
SUMMARY:Groupe deuil
DESCRIPTION:Nous vous proposons ce mois-ci un groupe sur la question du deu
 il au sein de la communauté\, en mixité choisie LGBTQIA+ : le dimanche 9
  juin à 15h.\n\n\nEn tant que population minorisée\, discriminée parfoi
 s persécutée\, nous sommes plusse souvent confronté⋅e⋅s au décès 
 de membres de notre communauté\, à cause de l’épidémie du Sida\, à 
 cause du taux de suicide beaucoup plusse élevé que dans le reste de la p
 opulation. Cela nous affecte que cette personne ait été un⋅e proche ou
  une personne éloignée. Alors parlons-en entre nous.\nSi tu as des resso
 urces à ce sujet\, des zines par exemple\, n’hésite pas à les apporte
 r
ATTACH;FMTTYPE=image/jpeg:https://iskis.org/wp-content/uploads/2024/06/Cap
 ture-decran-2024-06-03-a-16.01.38-e1717426625777.png
LOCATION:Iskis\, 6 rue Saint-Martin\, Rennes\, 35700\, Bretagne\, France
X-APPLE-STRUCTURED-LOCATION;VALUE=URI;X-ADDRESS=6 rue Saint-Martin\, Rennes
 \, 35700\, Bretagne\, France;X-APPLE-RADIUS=100;X-TITLE=Iskis:geo:0,0
END:VEVENT
BEGIN:VTIMEZONE
TZID:Europe/Paris
X-LIC-LOCATION:Europe/Paris
BEGIN:DAYLIGHT
DTSTART:20240331T030000
TZOFFSETFROM:+0100
TZOFFSETTO:+0200
TZNAME:CEST
END:DAYLIGHT
END:VTIMEZONE
END:VCALENDAR