BEGIN:VCALENDAR
VERSION:2.0
PRODID:-//wp-events-plugin.com//7.2.3.1//EN
TZID:Europe/Paris
X-WR-TIMEZONE:Europe/Paris
BEGIN:VEVENT
UID:940@iskis.org
DTSTART;TZID=Europe/Paris:20250525T150000
DTEND;TZID=Europe/Paris:20250525T183000
DTSTAMP:20250429T133008Z
URL:https://iskis.org/events/groupe-non-binaire-2025-05-25/
SUMMARY:Groupe non binaire
DESCRIPTION:Ce groupe de parole s'adresse aux personnes transgenres non-bin
 aires ou en questionnement suivi d’un atelier convivial en non-mixité
END:VEVENT
BEGIN:VTIMEZONE
TZID:Europe/Paris
X-LIC-LOCATION:Europe/Paris
BEGIN:DAYLIGHT
DTSTART:20250330T030000
TZOFFSETFROM:+0100
TZOFFSETTO:+0200
TZNAME:CEST
END:DAYLIGHT
END:VTIMEZONE
END:VCALENDAR