BEGIN:VCALENDAR
VERSION:2.0
PRODID:-//wp-events-plugin.com//7.2.3.1//EN
TZID:Europe/Paris
X-WR-TIMEZONE:Europe/Paris
BEGIN:VEVENT
UID:136@iskis.org
DTSTART;TZID=Europe/Paris:20230810T190000
DTEND;TZID=Europe/Paris:20230810T213000
DTSTAMP:20230711T171033Z
URL:https://iskis.org/events/groupe-personnes-polyamoureuses-et-en-questio
 nnement-2023-08-10/
SUMMARY:Groupe des personnes polyamoureuses et en questionnement
DESCRIPTION:Il s'agit d'un groupe de partage réservé aux personnes LGBTI+
  polyamoureuses ou en questionnement sur le polyamour\, pour discuter entr
 e celleux qui sont concerné·e·s par cette thématique\, dans le cadre b
 ienveillant d'Iskis - le centre LGBTI+ de Rennes.
ATTACH;FMTTYPE=image/jpeg:https://iskis.org/wp-content/uploads/2023/02/Gro
 upe-poly-1.png
LOCATION:Iskis\, 6 rue Saint-Martin\, Rennes\, 35700\, Bretagne\, France
X-APPLE-STRUCTURED-LOCATION;VALUE=URI;X-ADDRESS=6 rue Saint-Martin\, Rennes
 \, 35700\, Bretagne\, France;X-APPLE-RADIUS=100;X-TITLE=Iskis:geo:0,0
END:VEVENT
BEGIN:VTIMEZONE
TZID:Europe/Paris
X-LIC-LOCATION:Europe/Paris
BEGIN:DAYLIGHT
DTSTART:20230326T030000
TZOFFSETFROM:+0100
TZOFFSETTO:+0200
TZNAME:CEST
END:DAYLIGHT
END:VTIMEZONE
END:VCALENDAR