BEGIN:VCALENDAR
VERSION:2.0
PRODID:-//wp-events-plugin.com//7.2.3.1//EN
TZID:Europe/Paris
X-WR-TIMEZONE:Europe/Paris
BEGIN:VEVENT
UID:506@iskis.org
DTSTART;TZID=Europe/Paris:20240721T150000
DTEND;TZID=Europe/Paris:20240721T180000
DTSTAMP:20231003T134317Z
URL:https://iskis.org/events/groupe-trans-2-2024-07-21/
SUMMARY:Groupe Trans
DESCRIPTION:Un groupe de parole ouvert tous les troisièmes dimanches du mo
 is aux personnes transgenres et les personnes en questionnement sur une tr
 ansidentité\, ainsi qu'à leurs partenaires et leurs enfants. Venez discu
 ter entre celleux qui sont concerné⋅e⋅s par ces thématiques\, dans l
 e cadre bienveillant d'Iskis.
ATTACH;FMTTYPE=image/jpeg:https://iskis.org/wp-content/uploads/2023/02/Gro
 upe-trans-1.png
LOCATION:Iskis\, 6 rue Saint-Martin\, Rennes\, 35700\, Bretagne\, France
X-APPLE-STRUCTURED-LOCATION;VALUE=URI;X-ADDRESS=6 rue Saint-Martin\, Rennes
 \, 35700\, Bretagne\, France;X-APPLE-RADIUS=100;X-TITLE=Iskis:geo:0,0
END:VEVENT
BEGIN:VTIMEZONE
TZID:Europe/Paris
X-LIC-LOCATION:Europe/Paris
BEGIN:DAYLIGHT
DTSTART:20240331T030000
TZOFFSETFROM:+0100
TZOFFSETTO:+0200
TZNAME:CEST
END:DAYLIGHT
END:VTIMEZONE
END:VCALENDAR