BEGIN:VCALENDAR
VERSION:2.0
PRODID:-//wp-events-plugin.com//7.2.3.1//EN
TZID:Europe/Paris
X-WR-TIMEZONE:Europe/Paris
BEGIN:VEVENT
UID:917@iskis.org
DTSTART;TZID=Europe/Paris:20260118T150000
DTEND;TZID=Europe/Paris:20260118T180000
DTSTAMP:20260324T132215Z
URL:https://iskis.org/events/groupe-trans-3-2026-01-18/
SUMMARY:Groupe Trans
DESCRIPTION:Un groupe réservé aux personnes transgenres\, en questionneme
 nt et à leurs partenaires.
CATEGORIES:Calendrier
LOCATION:Iskis\, 6 rue Saint-Martin\, Rennes\, 35700\, Bretagne\, France
X-APPLE-STRUCTURED-LOCATION;VALUE=URI;X-ADDRESS=6 rue Saint-Martin\, Rennes
 \, 35700\, Bretagne\, France;X-APPLE-RADIUS=100;X-TITLE=Iskis:geo:0,0
END:VEVENT
BEGIN:VTIMEZONE
TZID:Europe/Paris
X-LIC-LOCATION:Europe/Paris
BEGIN:STANDARD
DTSTART:20251026T020000
TZOFFSETFROM:+0200
TZOFFSETTO:+0100
TZNAME:CET
END:STANDARD
END:VTIMEZONE
END:VCALENDAR