BEGIN:VCALENDAR
VERSION:2.0
PRODID:-//wp-events-plugin.com//7.2.3.1//EN
TZID:Europe/Paris
X-WR-TIMEZONE:Europe/Paris
BEGIN:VEVENT
UID:146@iskis.org
DTSTART;TZID=Europe/Paris:20230617T110000
DTEND;TZID=Europe/Paris:20230617T200000
DTSTAMP:20230404T123349Z
URL:https://iskis.org/events/marche-des-fiertes-lgbtirennes-2023/
SUMMARY:Marche des Fiertés LGBTI+Rennes 2023
DESCRIPTION:Toutes les infos ici.
LOCATION:Esplanade Charles de Gaulle\, Esplanade Charles de Gaulle\, Rennes
 \, 35000\, France
X-APPLE-STRUCTURED-LOCATION;VALUE=URI;X-ADDRESS=Esplanade Charles de Gaulle
 \, Rennes\, 35000\, France;X-APPLE-RADIUS=100;X-TITLE=Esplanade Charles de
  Gaulle:geo:0,0
END:VEVENT
BEGIN:VTIMEZONE
TZID:Europe/Paris
X-LIC-LOCATION:Europe/Paris
BEGIN:DAYLIGHT
DTSTART:20230326T030000
TZOFFSETFROM:+0100
TZOFFSETTO:+0200
TZNAME:CEST
END:DAYLIGHT
END:VTIMEZONE
END:VCALENDAR