BEGIN:VCALENDAR
VERSION:2.0
PRODID:-//wp-events-plugin.com//7.2.3.1//EN
TZID:Europe/Paris
X-WR-TIMEZONE:Europe/Paris
BEGIN:VEVENT
UID:989@iskis.org
DTSTART;TZID=Europe/Paris:20251031T190000
DTEND;TZID=Europe/Paris:20251031T220000
DTSTAMP:20250929T155445Z
URL:https://iskis.org/events/munch-kinky-queer-2/
SUMMARY:Munch kinky queer
DESCRIPTION:C’est le Munch de la rentrée et c’est Munch Halloween !!!
 \n\nNous vous donnons rendez-vous le vendredi 31 octobre de 19h00 à 22h00
  pour notre Munch totalement queer. Un Munch est une rencontre de discussi
 on autour des thématiques du BDSMK ( Bondage Discipline Sado Masochisme K
 inks).\n\nQue tu sois expérimenté.e ou curieux.se sens-toi libre de veni
 r partager et échanger autour du BDSMK.\n\nVenez avec vos thématiques et
  questions\, vos expériences.\n\nHalloween est souvent l’occasion de pa
 rtager des histoires. Venez nous raconter vos plus belles expériences et/
 ou écouter les autres vous dévoiler leurs expériences les plus marquant
 es.\n\nN’hésitez pas à venir avec vos plus belles tenues et/ou maquill
 ages\, pour fêter Halloween ensemble.\n\nChaque Munch est l’occasion d
 ’un tour de présentation. Ensuite il y a un temps d’échange sur un s
 ujet. Enfin le munch se termine par un temps d’échange en convivialité
  durant lequel nous pouvons partager un repas sous forme d’auberge espag
 nol.\n\nChacun.e peut apporter un plat salé ou sucré facile à partager 
 et des boissons SANS ALCOOL.
LOCATION:Iskis\, 6 rue Saint-Martin\, Rennes\, 35700\, Bretagne\, France
X-APPLE-STRUCTURED-LOCATION;VALUE=URI;X-ADDRESS=6 rue Saint-Martin\, Rennes
 \, 35700\, Bretagne\, France;X-APPLE-RADIUS=100;X-TITLE=Iskis:geo:0,0
END:VEVENT
BEGIN:VTIMEZONE
TZID:Europe/Paris
X-LIC-LOCATION:Europe/Paris
BEGIN:STANDARD
DTSTART:20251026T020000
TZOFFSETFROM:+0200
TZOFFSETTO:+0100
TZNAME:CET
END:STANDARD
END:VTIMEZONE
END:VCALENDAR