BEGIN:VCALENDAR
VERSION:2.0
PRODID:-//wp-events-plugin.com//7.2.3.1//EN
TZID:Europe/Paris
X-WR-TIMEZONE:Europe/Paris
BEGIN:VEVENT
UID:833@iskis.org
DTSTART;TZID=Europe/Paris:20240615T220000
DTEND;TZID=Europe/Paris:20240616T030000
DTSTAMP:20240521T085837Z
URL:https://iskis.org/events/noz-pride-2024/
SUMMARY:Noz Pride 2024
DESCRIPTION:\nLa 11e édition de la plus grande soirée LGBTI+ jamais organ
 isée dans le Grand Ouest vous attend ! Venez vivre cet évènement d’ex
 ception\, au cœur de la plus grande salle de spectacle de la capitale bre
 tonne\, transformée pour l’occasion en grand et spectaculaire dancefloo
 r !\n\n\n\nTarifs :\n– 7 € : tarif réduit\n– 12 € : tarif standar
 d\n– 16 € : tarif solidaire\n\n\n\nPour prendre ses billets : https://
 link.infini.fr/nozpride2024\n
ATTACH;FMTTYPE=image/jpeg:https://iskis.org/wp-content/uploads/2024/05/ins
 tagram_date_horaires.jpg
LOCATION:Le Liberté\, 1 Esplanade Charles de Gaulle\, Rennes\, 35000\, Fra
 nce
X-APPLE-STRUCTURED-LOCATION;VALUE=URI;X-ADDRESS=1 Esplanade Charles de Gaul
 le\, Rennes\, 35000\, France;X-APPLE-RADIUS=100;X-TITLE=Le Liberté:geo:0,
 0
END:VEVENT
BEGIN:VTIMEZONE
TZID:Europe/Paris
X-LIC-LOCATION:Europe/Paris
BEGIN:DAYLIGHT
DTSTART:20240331T030000
TZOFFSETFROM:+0100
TZOFFSETTO:+0200
TZNAME:CEST
END:DAYLIGHT
END:VTIMEZONE
END:VCALENDAR