BEGIN:VCALENDAR
VERSION:2.0
PRODID:-//wp-events-plugin.com//7.2.3.1//EN
TZID:Europe/Paris
X-WR-TIMEZONE:Europe/Paris
BEGIN:VEVENT
UID:836@iskis.org
DTSTART;TZID=Europe/Paris:20240727T123000
DTEND;TZID=Europe/Paris:20240727T150000
DTSTAMP:20240702T085944Z
URL:https://iskis.org/events/pique-nique-aux-etangs-dapigne/
SUMMARY:Pique-nique aux étangs d'Apigné
DESCRIPTION:Samedi 27 Juillet\, à 13 h 30\, aux Étangs d’Apigné \nNou
 s proposons un pique-nique aux Étangs d’Apigné. A celleux qui iront en
  bus\, un rendez-vous est donné à 12h30 à République afin de prendre e
 nsemble le bus de 13 h. Les Étangs d’Apigné sont aussi accessibles à 
 pied ou vélo via le chemin de halage qui part du centre ville de Rennes. 
 quelque soit le moyen de transport\, nous proposons un rendez-vous à 13 h
  30 près du restau/bar des étangs.\n\n
ATTACH;FMTTYPE=image/jpeg:https://iskis.org/wp-content/uploads/2024/07/aux
 -etangs-dapigne.png
LOCATION:étangs d'apigné\, Chemin de la Prevalaye\, Rennes\, 35000\, Fran
 ce
X-APPLE-STRUCTURED-LOCATION;VALUE=URI;X-ADDRESS=Chemin de la Prevalaye\, Re
 nnes\, 35000\, France;X-APPLE-RADIUS=100;X-TITLE=étangs d'apigné:geo:0,0
END:VEVENT
BEGIN:VTIMEZONE
TZID:Europe/Paris
X-LIC-LOCATION:Europe/Paris
BEGIN:DAYLIGHT
DTSTART:20240331T030000
TZOFFSETFROM:+0100
TZOFFSETTO:+0200
TZNAME:CEST
END:DAYLIGHT
END:VTIMEZONE
END:VCALENDAR