BEGIN:VCALENDAR
VERSION:2.0
PRODID:-//wp-events-plugin.com//7.2.3.1//EN
TZID:Europe/Paris
X-WR-TIMEZONE:Europe/Paris
BEGIN:VEVENT
UID:36@iskis.org
DTSTART;TZID=Europe/Paris:20230306T190000
DTEND;TZID=Europe/Paris:20230306T203000
DTSTAMP:20230218T150528Z
URL:https://iskis.org/events/reunion-de-projets-2023-03-06/
SUMMARY:Réunion de projets
DESCRIPTION:Envie de s’investir dans l’association ? Les réunions de p
 rojets sont faites pour ça : mise en place d’évènements\, échanges d
 ’informations\, bilans\, recrutements de bénévoles\, participation act
 ive à la mise en place de projets.\nTou·te·s les adhérent·e·s à jou
 r de cotisation peuvent y participer.
ATTACH;FMTTYPE=image/jpeg:https://iskis.org/wp-content/uploads/2023/02/reu
 nions-de-projets.png
LOCATION:Iskis\, 6 rue Saint-Martin\, Rennes\, 35700\, Bretagne\, France
X-APPLE-STRUCTURED-LOCATION;VALUE=URI;X-ADDRESS=6 rue Saint-Martin\, Rennes
 \, 35700\, Bretagne\, France;X-APPLE-RADIUS=100;X-TITLE=Iskis:geo:0,0
END:VEVENT
BEGIN:VTIMEZONE
TZID:Europe/Paris
X-LIC-LOCATION:Europe/Paris
BEGIN:STANDARD
DTSTART:20221030T020000
TZOFFSETFROM:+0200
TZOFFSETTO:+0100
TZNAME:CET
END:STANDARD
END:VTIMEZONE
END:VCALENDAR