BEGIN:VCALENDAR
VERSION:2.0
PRODID:-//wp-events-plugin.com//7.2.3.1//EN
TZID:Europe/Paris
X-WR-TIMEZONE:Europe/Paris
BEGIN:VEVENT
UID:420@iskis.org
DTSTART;TZID=Europe/Paris:20240708T190000
DTEND;TZID=Europe/Paris:20240708T210000
DTSTAMP:20240702T090200Z
URL:https://iskis.org/events/reunion-de-projets-3-2024-07-08/
SUMMARY:Réunion de bénévolat
DESCRIPTION:Envie de s’investir dans l’association ? Les réunions de b
 énévolat sont faites pour ça : mise en place d’évènements\, échang
 es d’informations\, bilans\, recrutements de bénévoles\, participation
  active à la mise en place de projets.\nTou·te·s les adhérent·e·s à
  jour de cotisation peuvent y participer.
ATTACH;FMTTYPE=image/jpeg:https://iskis.org/wp-content/uploads/2023/02/reu
 nions-de-projets.png
LOCATION:Iskis\, 6 rue Saint-Martin\, Rennes\, 35700\, Bretagne\, France
X-APPLE-STRUCTURED-LOCATION;VALUE=URI;X-ADDRESS=6 rue Saint-Martin\, Rennes
 \, 35700\, Bretagne\, France;X-APPLE-RADIUS=100;X-TITLE=Iskis:geo:0,0
END:VEVENT
BEGIN:VTIMEZONE
TZID:Europe/Paris
X-LIC-LOCATION:Europe/Paris
BEGIN:DAYLIGHT
DTSTART:20240331T030000
TZOFFSETFROM:+0100
TZOFFSETTO:+0200
TZNAME:CEST
END:DAYLIGHT
END:VTIMEZONE
END:VCALENDAR