BEGIN:VCALENDAR
VERSION:2.0
PRODID:-//wp-events-plugin.com//7.2.3.1//EN
TZID:Europe/Paris
X-WR-TIMEZONE:Europe/Paris
BEGIN:VEVENT
UID:579@iskis.org
DTSTART;TZID=Europe/Paris:20240126T190000
DTEND;TZID=Europe/Paris:20240126T210000
DTSTAMP:20240125T150700Z
URL:https://iskis.org/events/reunion-marche-des-fiertes-rennes-2024/
SUMMARY:Réunion Marche des Fiertés Rennes 2024
DESCRIPTION:C'est le moment de commencer à travailler sur la Marche des Fi
 ertés Rennes 2024. Associations amies\, bénévoles et sympatisant⋅e⋅
 s\, nous vous convions à une réunion de préparation pour discuter du mo
 t d'ordre et choisir læ graphiste qui réalisera l'affiche de cette édit
 ion.
ATTACH;FMTTYPE=image/jpeg:https://iskis.org/wp-content/uploads/2024/01/Reu
 nion-Marche-Mot-dordre-et-graphistes.png
LOCATION:Iskis\, 6 rue Saint-Martin\, Rennes\, 35700\, Bretagne\, France
X-APPLE-STRUCTURED-LOCATION;VALUE=URI;X-ADDRESS=6 rue Saint-Martin\, Rennes
 \, 35700\, Bretagne\, France;X-APPLE-RADIUS=100;X-TITLE=Iskis:geo:0,0
END:VEVENT
BEGIN:VTIMEZONE
TZID:Europe/Paris
X-LIC-LOCATION:Europe/Paris
BEGIN:STANDARD
DTSTART:20231029T020000
TZOFFSETFROM:+0200
TZOFFSETTO:+0100
TZNAME:CET
END:STANDARD
END:VTIMEZONE
END:VCALENDAR