BEGIN:VCALENDAR
VERSION:2.0
PRODID:-//wp-events-plugin.com//7.2.3.1//EN
TZID:Europe/Paris
X-WR-TIMEZONE:Europe/Paris
BEGIN:VEVENT
UID:996@iskis.org
DTSTART;TZID=Europe/Paris:20251231T190000
DTEND;TZID=Europe/Paris:20260101T003000
DTSTAMP:20251215T130136Z
URL:https://iskis.org/events/reveillon-du-31-decembre-2025/
SUMMARY:Réveillon du 31 décembre 2025
DESCRIPTION:31 décembre 19h - 0h30\n\nTu souhaites passer la nouvelle ann
 ée à nos côtés ? Viens nous rejoindre à Iskis le 31 décembre\, nous 
 t’accueillerons autour d’un repas et fêterons ensemble le début de l
 ’année 2026 !\n\nChacun·e peut apporter quelque chose à manger (alcoo
 l interdit).\n\nC’est gratuit\, sans inscription et ouvert à tou·te·s
ATTACH;FMTTYPE=image/jpeg:https://iskis.org/wp-content/uploads/2025/12/Rev
 eillon-du-31-decembre-Couverture-Facebook.png
CATEGORIES:Calendrier
LOCATION:Iskis\, 6 rue Saint-Martin\, Rennes\, 35700\, Bretagne\, France
X-APPLE-STRUCTURED-LOCATION;VALUE=URI;X-ADDRESS=6 rue Saint-Martin\, Rennes
 \, 35700\, Bretagne\, France;X-APPLE-RADIUS=100;X-TITLE=Iskis:geo:0,0
END:VEVENT
BEGIN:VTIMEZONE
TZID:Europe/Paris
X-LIC-LOCATION:Europe/Paris
BEGIN:STANDARD
DTSTART:20251026T020000
TZOFFSETFROM:+0200
TZOFFSETTO:+0100
TZNAME:CET
END:STANDARD
END:VTIMEZONE
END:VCALENDAR