BEGIN:VCALENDAR
VERSION:2.0
PRODID:-//wp-events-plugin.com//7.2.3.1//EN
TZID:Europe/Paris
X-WR-TIMEZONE:Europe/Paris
BEGIN:VEVENT
UID:553@iskis.org
DTSTART;TZID=Europe/Paris:20231021T180000
DTEND;TZID=Europe/Paris:20231021T220000
DTSTAMP:20231017T184125Z
URL:https://iskis.org/events/soiree-de-lancement-du-fanzine-queermaginaire
 s/
SUMMARY:Soirée de lancement du fanzine Queermaginaires
DESCRIPTION:Le 21 octobre à 18 h à Iskis aura lieu la soirée de lancemen
 t du fanzine des Queermaginaires intitulé "Nos mondes queer". Rencontres\
 , lectures et sérigraphies sont au programme. Entrée libre.
ATTACH;FMTTYPE=image/jpeg:https://iskis.org/wp-content/uploads/2023/10/Pos
 t-Soiree-QZ.png
LOCATION:Iskis\, 6 rue Saint-Martin\, Rennes\, 35700\, Bretagne\, France
X-APPLE-STRUCTURED-LOCATION;VALUE=URI;X-ADDRESS=6 rue Saint-Martin\, Rennes
 \, 35700\, Bretagne\, France;X-APPLE-RADIUS=100;X-TITLE=Iskis:geo:0,0
END:VEVENT
BEGIN:VTIMEZONE
TZID:Europe/Paris
X-LIC-LOCATION:Europe/Paris
BEGIN:DAYLIGHT
DTSTART:20230326T030000
TZOFFSETFROM:+0100
TZOFFSETTO:+0200
TZNAME:CEST
END:DAYLIGHT
END:VTIMEZONE
END:VCALENDAR